BEGIN:VCALENDAR
VERSION:2.0
PRODID:-//Municipalidad del Partido de Olavarría - ECPv6.15.17.1//NONSGML v1.0//EN
CALSCALE:GREGORIAN
METHOD:PUBLISH
X-WR-CALNAME:Municipalidad del Partido de Olavarría
X-ORIGINAL-URL:https://www.olavarria.gov.ar
X-WR-CALDESC:Eventos para Municipalidad del Partido de Olavarría
REFRESH-INTERVAL;VALUE=DURATION:PT1H
X-Robots-Tag:noindex
X-PUBLISHED-TTL:PT1H
BEGIN:VTIMEZONE
TZID:America/Argentina/Buenos_Aires
BEGIN:STANDARD
TZOFFSETFROM:-0300
TZOFFSETTO:-0300
TZNAME:-03
DTSTART:20250101T000000
END:STANDARD
END:VTIMEZONE
BEGIN:VEVENT
DTSTART;TZID=America/Argentina/Buenos_Aires:20260201T200000
DTEND;TZID=America/Argentina/Buenos_Aires:20260201T200000
DTSTAMP:20260421T154153
CREATED:20260130T143601Z
LAST-MODIFIED:20260130T153955Z
UID:126410-1769976000-1769976000@www.olavarria.gov.ar
SUMMARY:Concierto del Ensamble de Música Latinoamericana
DESCRIPTION:
URL:https://www.olavarria.gov.ar/evento/concierto-del-ensamble-de-musica-latinoamericana/
LOCATION:Casa del Bicentenario\, Bolívar 7400\, Olavarría\, Buenos Aires\, B7400\, Argentina
END:VEVENT
BEGIN:VEVENT
DTSTART;TZID=America/Argentina/Buenos_Aires:20260201T200000
DTEND;TZID=America/Argentina/Buenos_Aires:20260201T200000
DTSTAMP:20260421T154153
CREATED:20260130T141758Z
LAST-MODIFIED:20260130T141814Z
UID:126405-1769976000-1769976000@www.olavarria.gov.ar
SUMMARY:Concierto del Ensamble de Saxos
DESCRIPTION:
URL:https://www.olavarria.gov.ar/evento/concierto-del-ensamble-de-saxos/
LOCATION:Casa del Bicentenario\, Bolívar 7400\, Olavarría\, Buenos Aires\, B7400\, Argentina
ATTACH;FMTTYPE=image/webp:https://www.olavarria.gov.ar/wp-content/uploads/2026/01/Casa-del-Bicentenario.webp
END:VEVENT
BEGIN:VEVENT
DTSTART;TZID=America/Argentina/Buenos_Aires:20260131T180000
DTEND;TZID=America/Argentina/Buenos_Aires:20260131T180000
DTSTAMP:20260421T154153
CREATED:20260130T133351Z
LAST-MODIFIED:20260130T133553Z
UID:126385-1769882400-1769882400@www.olavarria.gov.ar
SUMMARY:Aniversario 65 del Museo Dámaso Arce
DESCRIPTION:
URL:https://www.olavarria.gov.ar/evento/aniversario-65-del-museo-damaso-arce/
LOCATION:Veredón del Museo Dámaso Arce\, San Martín 2862\, Olavarría\, Buenos Aires\, B7400\, Argentina
END:VEVENT
BEGIN:VEVENT
DTSTART;TZID=America/Argentina/Buenos_Aires:20260130T210000
DTEND;TZID=America/Argentina/Buenos_Aires:20260130T210000
DTSTAMP:20260421T154153
CREATED:20260130T134757Z
LAST-MODIFIED:20260130T135634Z
UID:126390-1769806800-1769806800@www.olavarria.gov.ar
SUMMARY:Cine Argentino bajo las estrellas: "Un Oso Rojo" (Caetano\, 2002)
DESCRIPTION:
URL:https://www.olavarria.gov.ar/evento/cine-argentino-bajo-las-estrellas-un-oso-rojo-caetano-2002/
LOCATION:Centro Cultural San José\, Riobamba 2949\, Olavarría\, Buenos Aires\, B7400\, Argentina
END:VEVENT
BEGIN:VEVENT
DTSTART;TZID=America/Argentina/Buenos_Aires:20260129T193000
DTEND;TZID=America/Argentina/Buenos_Aires:20260129T193000
DTSTAMP:20260421T154153
CREATED:20260130T140228Z
LAST-MODIFIED:20260130T140314Z
UID:126400-1769715000-1769715000@www.olavarria.gov.ar
SUMMARY:Ciclo de Cine en el Emiliozzi: "The Italian Job" (1969)
DESCRIPTION:
URL:https://www.olavarria.gov.ar/evento/ciclo-de-cine-en-el-emiliozzi-the-italian-job-1969/
LOCATION:Museo Hermanos Emiliozzi\, Necochea 3229\, Olavarría\, Buenos Aires\, B7400\, Argentina
END:VEVENT
END:VCALENDAR